BEGIN:VCALENDAR
VERSION:2.0
PRODID:-//Plone.org//NONSGML plone.app.event//EN
X-WR-TIMEZONE:US/Central
BEGIN:VEVENT
SUMMARY:AR Testing After School
DTSTART;TZID=US/Central:20250409T154500
DTEND;TZID=US/Central:20250409T180000
DTSTAMP:20260423T034009Z
UID:fa2eb78614b344df8b8753fc994900b9@saas_stack_varnish:6080
CREATED:20241001T205523Z
DESCRIPTION:AR Testing is available after school from 3:45 pm to 6:00 pm e
 very Tuesday through Friday for Ann Whitney Elementary and Hamilton Junior
  High students. All tests will be monitored by trained staff or volunteers
 .
LAST-MODIFIED:20251030T193805Z
URL:https://www.hamilton-public-library.org/lib-cal/copy_of_ar-testing-aft
 er-school/2025-04-09
END:VEVENT
BEGIN:VTIMEZONE
TZID:US/Central
X-LIC-LOCATION:US/Central
BEGIN:DAYLIGHT
DTSTART:20250309T030000
TZNAME:CDT
TZOFFSETFROM:-0600
TZOFFSETTO:-0500
END:DAYLIGHT
END:VTIMEZONE
END:VCALENDAR
