BEGIN:VCALENDAR
VERSION:2.0
PRODID:-//Plone.org//NONSGML plone.app.event//EN
X-WR-TIMEZONE:US/Central
BEGIN:VEVENT
SUMMARY:After School AR Testing
DTSTART;TZID=US/Central:20200114T153000
DTEND;TZID=US/Central:20200114T180000
DTSTAMP:20260425T152006Z
UID:8b56f6738efe4154aa7b3fe5245d804a@saas_stack_varnish:6080
RRULE:FREQ=WEEKLY;UNTIL=20200314T000000;BYDAY=TU,TH
EXDATE;TZID=US/Central:20191128T000000,20200310T000000,20200312T000000
CREATED:20200229T171125Z
DESCRIPTION:Ann Whitney Elementary and Hamilton Junior High students may A
 R test at the library every day after school.
LAST-MODIFIED:20251030T193749Z
URL:https://www.hamilton-public-library.org/lib-cal/copy2_of_after-school-
 ar-testing-2
END:VEVENT
BEGIN:VTIMEZONE
TZID:US/Central
X-LIC-LOCATION:US/Central
BEGIN:STANDARD
DTSTART:20191103T010000
TZNAME:CST
TZOFFSETFROM:-0500
TZOFFSETTO:-0600
END:STANDARD
END:VTIMEZONE
END:VCALENDAR
