BEGIN:VCALENDAR
VERSION:2.0
PRODID:-//Plone.org//NONSGML plone.app.event//EN
X-WR-TIMEZONE:US/Central
BEGIN:VEVENT
SUMMARY:BOO for Books @  the Library
DTSTART;TZID=US/Central:20181026T143000
DTEND;TZID=US/Central:20181026T183000
DTSTAMP:20260421T194840Z
UID:8917ac5914cd4ecf9c707d5dfc25fd13@saas_stack_varnish:6080
CREATED:20181023T135250Z
DESCRIPTION:Hamilton Public Library will host our 2nd Annual BOO for Books
  today\, Friday\, October 26th\, from 2:30-6:30. Children (babies-14 years
 ) are invited to come in costume to receive a new\, free book. Library sta
 ff and Friends of the Library will be on hand to assist all afternoon.
LAST-MODIFIED:20251030T193745Z
URL:https://www.hamilton-public-library.org/lib-cal/boo-for-books-the-libr
 ary
END:VEVENT
BEGIN:VTIMEZONE
TZID:US/Central
X-LIC-LOCATION:US/Central
BEGIN:DAYLIGHT
DTSTART:20180311T030000
TZNAME:CDT
TZOFFSETFROM:-0600
TZOFFSETTO:-0500
END:DAYLIGHT
END:VTIMEZONE
END:VCALENDAR
