BEGIN:VCALENDAR
VERSION:2.0
PRODID:-//Plone.org//NONSGML plone.app.event//EN
X-WR-TIMEZONE:US/Central
BEGIN:VEVENT
SUMMARY:After School AR Testing
DTSTART;TZID=US/Central:20190109T153000
DTEND;TZID=US/Central:20190109T170000
DTSTAMP:20260425T004439Z
UID:a6b96c5db40f49a49583da7610c01ae1@saas_stack_varnish:6080
RRULE:FREQ=WEEKLY;UNTIL=20190425T000000;BYDAY=WE,FR
EXDATE;TZID=US/Central:20190313T000000,20190315T000000,20190419T000000
CREATED:20190119T155400Z
DESCRIPTION:Ann Whitney Elementary and Hamilton Junior High students may A
 R test at the library every day after school.
LAST-MODIFIED:20251030T193745Z
URL:https://www.hamilton-public-library.org/lib-cal/after-school-ar-testin
 g-1
END:VEVENT
BEGIN:VTIMEZONE
TZID:US/Central
X-LIC-LOCATION:US/Central
BEGIN:STANDARD
DTSTART:20181104T010000
TZNAME:CST
TZOFFSETFROM:-0500
TZOFFSETTO:-0600
END:STANDARD
END:VTIMEZONE
END:VCALENDAR
